BEGIN:VCALENDAR
VERSION:2.0
PRODID:icalendar-ruby
CALSCALE:GREGORIAN
METHOD:PUBLISH
BEGIN:VEVENT
DTSTAMP:20260420T055503Z
UID:7-397739@citypointechurch.com
DTSTART:20260927T141000Z
DTEND:20260927T151000Z
CLASS:PUBLIC
CREATED:20260416T013038
DESCRIPTION:Sunday Morning Worship Gathering
LAST-MODIFIED:20260416T013038
LOCATION:220 W Alexander St\, Plant City\, FL 33563
SUMMARY:Sunday Morning Worship Gathering
URL;VALUE=URI:https://citypointechurch.com/events/sunday-morning-worship-ga
 thering/2026-09-27
END:VEVENT
END:VCALENDAR
